BEGIN:VCALENDAR
VERSION:2.0
PRODID:-//hacksw/handcal//NONSGML v1.0//EN
CALSCALE:GREGORIAN
BEGIN:VEVENT
LOCATION:Avenue Jacques Chirac\, 83820 Rayol-Canadel-sur-Mer
DESCRIPTION:https://www.golfe-saint-tropez-information.com/fr/animation/culture/rayol-canadel-sur-mer/exposition-fuegophillia-d-amandine-guruceaga-6102767
DTSTART:20260424T000000Z
DTEND:20260531T000000Z
SUMMARY:Exposition « Fuegophillia »\, d’Amandine Guruceaga
URL;VALUE=URI:https://www.golfe-saint-tropez-information.com/fr/animation/culture/rayol-canadel-sur-mer/exposition-fuegophillia-d-amandine-guruceaga-6102767
DTSTAMP:20260425T185358Z
UID:69ed0dc6c9d76
END:VEVENT
END:VCALENDAR