BEGIN:VCALENDAR
VERSION:2.0
PRODID:-//hacksw/handcal//NONSGML v1.0//EN
CALSCALE:GREGORIAN
BEGIN:VEVENT
LOCATION:Place de la Mairie\, 83680 La Garde-Freinet
DESCRIPTION:https://www.golfe-saint-tropez-information.com/en/animation/entertainment-recreation/la-garde-freinet/fete-de-la-chataigne-6100638
DTSTART:20261018T000000Z
DTEND:20261108T000000Z
SUMMARY:Fête de la Châtaigne
URL;VALUE=URI:https://www.golfe-saint-tropez-information.com/en/animation/entertainment-recreation/la-garde-freinet/fete-de-la-chataigne-6100638
DTSTAMP:20260425T233552Z
UID:69ed4fd89e97c
END:VEVENT
END:VCALENDAR