BEGIN:VCALENDAR
VERSION:2.0
PRODID:-//hacksw/handcal//NONSGML v1.0//EN
CALSCALE:GREGORIAN
BEGIN:VEVENT
LOCATION:83350 Ramatuelle
DESCRIPTION:https://www.golfe-saint-tropez-information.com/fr/animation/culture/ramatuelle/prix-pampelonne-ramatuelle-et-ses-festivites-6098350
DTSTART:20260529T000000Z
DTEND:20260530T000000Z
SUMMARY:Prix Pampelonne Ramatuelle et ses festivités
URL;VALUE=URI:https://www.golfe-saint-tropez-information.com/fr/animation/culture/ramatuelle/prix-pampelonne-ramatuelle-et-ses-festivites-6098350
DTSTAMP:20260422T173851Z
UID:69e907ab68413
END:VEVENT
END:VCALENDAR