BEGIN:VCALENDAR
VERSION:2.0
PRODID:-//hacksw/handcal//NONSGML v1.0//EN
CALSCALE:GREGORIAN
BEGIN:VEVENT
LOCATION:83350 Ramatuelle
DESCRIPTION:https://www.golfe-saint-tropez-information.com/en/animation/cultural/ramatuelle/prix-pampelonne-ramatuelle-and-its-festivities-6098350
DTSTART:20260529T000000Z
DTEND:20260530T000000Z
SUMMARY:Prix Pampelonne Ramatuelle and its festivities
URL;VALUE=URI:https://www.golfe-saint-tropez-information.com/en/animation/cultural/ramatuelle/prix-pampelonne-ramatuelle-and-its-festivities-6098350
DTSTAMP:20260422T190038Z
UID:69e91ad607745
END:VEVENT
END:VCALENDAR