BEGIN:VCALENDAR
VERSION:2.0
PRODID:-//hacksw/handcal//NONSGML v1.0//EN
CALSCALE:GREGORIAN
BEGIN:VEVENT
LOCATION:Devant l'Office de Tourisme\, 83820 Rayol-Canadel-sur-Mer
DESCRIPTION:https://www.golfe-saint-tropez-information.com/fr/animation/distractions-et-loisirs/rayol-canadel-sur-mer/castagnade-5952160
DTSTART:20261024T000000Z
DTEND:20261024T000000Z
SUMMARY:Castagnade
URL;VALUE=URI:https://www.golfe-saint-tropez-information.com/fr/animation/distractions-et-loisirs/rayol-canadel-sur-mer/castagnade-5952160
DTSTAMP:20260425T233057Z
UID:69ed4eb125c05
END:VEVENT
END:VCALENDAR