BEGIN:VCALENDAR
VERSION:2.0
PRODID:-//hacksw/handcal//NONSGML v1.0//EN
CALSCALE:GREGORIAN
BEGIN:VEVENT
LOCATION:16\, boulevard Vasserot\, 83990 Saint-Tropez
DESCRIPTION:https://www.golfe-saint-tropez-information.com/fr/animation/culture/saint-tropez/salon-international-des-artistes-contemporains-5881940
DTSTART:20260918T000000Z
DTEND:20260929T000000Z
SUMMARY:Salon international des artistes contemporains
URL;VALUE=URI:https://www.golfe-saint-tropez-information.com/fr/animation/culture/saint-tropez/salon-international-des-artistes-contemporains-5881940
DTSTAMP:20260425T161349Z
UID:69ece83d78c2b
END:VEVENT
END:VCALENDAR