BEGIN:VCALENDAR
VERSION:2.0
PRODID:-//hacksw/handcal//NONSGML v1.0//EN
CALSCALE:GREGORIAN
BEGIN:VEVENT
LOCATION:16\, boulevard Vasserot\, 83990 Saint-Tropez
DESCRIPTION:https://www.golfe-saint-tropez-information.com/en/animation/cultural/saint-tropez/international-exhibition-of-contemporary-artists-5881940
DTSTART:20260918T000000Z
DTEND:20260929T000000Z
SUMMARY:International Exhibition of Contemporary Artists
URL;VALUE=URI:https://www.golfe-saint-tropez-information.com/en/animation/cultural/saint-tropez/international-exhibition-of-contemporary-artists-5881940
DTSTAMP:20260425T174225Z
UID:69ecfd010099d
END:VEVENT
END:VCALENDAR