BEGIN:VCALENDAR
VERSION:2.0
PRODID:-//hacksw/handcal//NONSGML v1.0//EN
CALSCALE:GREGORIAN
BEGIN:VEVENT
LOCATION:83120 Sainte-Maxime
DESCRIPTION:https://www.golfe-saint-tropez-information.com/fr/animation/culture/sainte-maxime/82-anniversaire-du-debarquement-des-troupes-alliees-sur-les-cotes-de-provence-15-aout-5861971
DTSTART:20260815T000000Z
DTEND:20260815T000000Z
SUMMARY:82 anniversaire du débarquement des troupes alliées sur les cotes de provence - 15 août
URL;VALUE=URI:https://www.golfe-saint-tropez-information.com/fr/animation/culture/sainte-maxime/82-anniversaire-du-debarquement-des-troupes-alliees-sur-les-cotes-de-provence-15-aout-5861971
DTSTAMP:20260423T014952Z
UID:69e97ac08563b
END:VEVENT
END:VCALENDAR