BEGIN:VCALENDAR
VERSION:2.0
PRODID:-//hacksw/handcal//NONSGML v1.0//EN
CALSCALE:GREGORIAN
BEGIN:VEVENT
LOCATION:83120 Sainte-Maxime
DESCRIPTION:https://www.golfe-saint-tropez-information.com/en/animation/cultural/sainte-maxime/anniversaire-du-debarquement-de-provence-15-aout-5861971
DTSTART:20260815T000000Z
DTEND:20260815T000000Z
SUMMARY:Anniversaire du Débarquement de Provence - 15 août
URL;VALUE=URI:https://www.golfe-saint-tropez-information.com/en/animation/cultural/sainte-maxime/anniversaire-du-debarquement-de-provence-15-aout-5861971
DTSTAMP:20260423T030952Z
UID:69e98d80d67a7
END:VEVENT
END:VCALENDAR