BEGIN:VCALENDAR
VERSION:2.0
PRODID:-//hacksw/handcal//NONSGML v1.0//EN
CALSCALE:GREGORIAN
BEGIN:VEVENT
LOCATION:1910 Route du Littoral\, 83310 Grimaud
DESCRIPTION:https://www.golfe-saint-tropez-information.com/fr/animation/sports/grimaud/hello-sun-yoga-festival-aux-prairies-de-la-mer-5812159
DTSTART:20260601T000000Z
DTEND:20260628T000000Z
SUMMARY:Hello Sun Yoga Festival aux Prairies de la Mer
URL;VALUE=URI:https://www.golfe-saint-tropez-information.com/fr/animation/sports/grimaud/hello-sun-yoga-festival-aux-prairies-de-la-mer-5812159
DTSTAMP:20260425T161425Z
UID:69ece861152c7
END:VEVENT
END:VCALENDAR