BEGIN:VCALENDAR
VERSION:2.0
PRODID:-//hacksw/handcal//NONSGML v1.0//EN
CALSCALE:GREGORIAN
BEGIN:VEVENT
LOCATION:83120 Plan-de-la-Tour
DESCRIPTION:https://www.golfe-saint-tropez-information.com/fr/animation/distractions-et-loisirs/plan-de-la-tour/vide-greniers-des-coquinous-5800395
DTSTART:20260523T000000Z
DTEND:20260523T000000Z
SUMMARY:Vide Greniers des Coquinous
URL;VALUE=URI:https://www.golfe-saint-tropez-information.com/fr/animation/distractions-et-loisirs/plan-de-la-tour/vide-greniers-des-coquinous-5800395
DTSTAMP:20260422T161625Z
UID:69e8f459e5091
END:VEVENT
END:VCALENDAR