BEGIN:VCALENDAR
VERSION:2.0
PRODID:-//hacksw/handcal//NONSGML v1.0//EN
CALSCALE:GREGORIAN
BEGIN:VEVENT
LOCATION:83120 Plan-de-la-Tour
DESCRIPTION:https://www.golfe-saint-tropez-information.com/en/animation/entertainment-recreation/plan-de-la-tour/coquinous-flea-market-5800395
DTSTART:20260523T000000Z
DTEND:20260523T000000Z
SUMMARY:Coquinous Flea Market
URL;VALUE=URI:https://www.golfe-saint-tropez-information.com/en/animation/entertainment-recreation/plan-de-la-tour/coquinous-flea-market-5800395
DTSTAMP:20260422T173306Z
UID:69e90652910ea
END:VEVENT
END:VCALENDAR