BEGIN:VCALENDAR
VERSION:2.0
PRODID:-//hacksw/handcal//NONSGML v1.0//EN
CALSCALE:GREGORIAN
BEGIN:VEVENT
LOCATION:Médiathèque\, 44\, Rue Marceau\, Cogolin
DESCRIPTION:https://www.golfe-saint-tropez-information.com/fr/animation/manifestations-commerciales/cogolin/brocante-de-livres-5617510
DTSTART:20260530T000000Z
DTEND:20261107T000000Z
SUMMARY:Brocante de livres
URL;VALUE=URI:https://www.golfe-saint-tropez-information.com/fr/animation/manifestations-commerciales/cogolin/brocante-de-livres-5617510
DTSTAMP:20260420T141106Z
UID:69e633fa0cbab
END:VEVENT
END:VCALENDAR