BEGIN:VCALENDAR
VERSION:2.0
PRODID:-//hacksw/handcal//NONSGML v1.0//EN
CALSCALE:GREGORIAN
BEGIN:VEVENT
LOCATION:Médiathèque\, 44\, Rue Marceau\, Cogolin
DESCRIPTION:https://www.golfe-saint-tropez-information.com/en/animation/commercial-event/cogolin/book-fair-5617510
DTSTART:20260530T000000Z
DTEND:20261107T000000Z
SUMMARY:Book fair
URL;VALUE=URI:https://www.golfe-saint-tropez-information.com/en/animation/commercial-event/cogolin/book-fair-5617510
DTSTAMP:20260420T172124Z
UID:69e66094af0a1
END:VEVENT
END:VCALENDAR