BEGIN:VCALENDAR
VERSION:2.0
PRODID:-//hacksw/handcal//NONSGML v1.0//EN
CALSCALE:GREGORIAN
BEGIN:VEVENT
LOCATION:Promenade A. Simon Lorière\, 83120 Sainte-Maxime
DESCRIPTION:https://www.golfe-saint-tropez-information.com/fr/animation/distractions-et-loisirs/sainte-maxime/vivez-provence-5603937
DTSTART:20261107T000000Z
DTEND:20261108T000000Z
SUMMARY:Vivez Provence
URL;VALUE=URI:https://www.golfe-saint-tropez-information.com/fr/animation/distractions-et-loisirs/sainte-maxime/vivez-provence-5603937
DTSTAMP:20260419T133044Z
UID:69e4d90452f1b
END:VEVENT
END:VCALENDAR