BEGIN:VCALENDAR
VERSION:2.0
PRODID:-//hacksw/handcal//NONSGML v1.0//EN
CALSCALE:GREGORIAN
BEGIN:VEVENT
LOCATION:Rue de la Mairie\, 83310 Grimaud
DESCRIPTION:https://www.golfe-saint-tropez-information.com/fr/animation/culture/grimaud/commemoration-de-l-armistice-a-grimaud-5371129
DTSTART:20261111T000000Z
DTEND:20261111T000000Z
SUMMARY:Commémoration de l'Armistice à Grimaud
URL;VALUE=URI:https://www.golfe-saint-tropez-information.com/fr/animation/culture/grimaud/commemoration-de-l-armistice-a-grimaud-5371129
DTSTAMP:20260425T220039Z
UID:69ed398747df7
END:VEVENT
END:VCALENDAR