BEGIN:VCALENDAR
VERSION:2.0
PRODID:-//hacksw/handcal//NONSGML v1.0//EN
CALSCALE:GREGORIAN
BEGIN:VEVENT
LOCATION:Rue de la Mairie\, 83310 Grimaud
DESCRIPTION:https://www.golfe-saint-tropez-information.com/en/animation/cultural/grimaud/commemoration-of-the-armistice-in-grimaud-5371129
DTSTART:20261111T000000Z
DTEND:20261111T000000Z
SUMMARY:Commemoration of the Armistice in Grimaud
URL;VALUE=URI:https://www.golfe-saint-tropez-information.com/en/animation/cultural/grimaud/commemoration-of-the-armistice-in-grimaud-5371129
DTSTAMP:20260425T234250Z
UID:69ed517a022a6
END:VEVENT
END:VCALENDAR