BEGIN:VCALENDAR
VERSION:2.0
PRODID:-//hacksw/handcal//NONSGML v1.0//EN
CALSCALE:GREGORIAN
BEGIN:VEVENT
LOCATION:Promenade A. Simon Lorière\, 83120 Sainte-Maxime
DESCRIPTION:https://www.golfe-saint-tropez-information.com/en/animation/entertainment-recreation/sainte-maxime/magic-show-5339899
DTSTART:20261023T000000Z
DTEND:20261025T000000Z
SUMMARY:Magic Show
URL;VALUE=URI:https://www.golfe-saint-tropez-information.com/en/animation/entertainment-recreation/sainte-maxime/magic-show-5339899
DTSTAMP:20260426T010214Z
UID:69ed64162fd76
END:VEVENT
END:VCALENDAR