BEGIN:VCALENDAR
VERSION:2.0
PRODID:-//hacksw/handcal//NONSGML v1.0//EN
CALSCALE:GREGORIAN
BEGIN:VEVENT
LOCATION:La Croix du Sud\, 83240 Cavalaire-sur-Mer
DESCRIPTION:https://www.golfe-saint-tropez-information.com/fr/animation/distractions-et-loisirs/cavalaire-sur-mer/marche-artisanal-5017399
DTSTART:20260405T000000Z
DTEND:20261111T000000Z
SUMMARY:Marché Artisanal
URL;VALUE=URI:https://www.golfe-saint-tropez-information.com/fr/animation/distractions-et-loisirs/cavalaire-sur-mer/marche-artisanal-5017399
DTSTAMP:20260419T133044Z
UID:69e4d9049778c
END:VEVENT
END:VCALENDAR