BEGIN:VCALENDAR
VERSION:2.0
PRODID:-//hacksw/handcal//NONSGML v1.0//EN
CALSCALE:GREGORIAN
BEGIN:VEVENT
LOCATION:Avenue Jacques Chirac\, 83820 Rayol-Canadel-sur-Mer
DESCRIPTION:https://www.golfe-saint-tropez-information.com/fr/animation/culture/rayol-canadel-sur-mer/soiree-romantique-au-domaine-du-rayol-nour-ayadi-4976473
DTSTART:20260810T000000Z
DTEND:20260810T000000Z
SUMMARY:Soirée romantique au Domaine du Rayol -Nour AYADI
URL;VALUE=URI:https://www.golfe-saint-tropez-information.com/fr/animation/culture/rayol-canadel-sur-mer/soiree-romantique-au-domaine-du-rayol-nour-ayadi-4976473
DTSTAMP:20260425T232639Z
UID:69ed4daf7d6b0
END:VEVENT
END:VCALENDAR