BEGIN:VCALENDAR
VERSION:2.0
PRODID:-//hacksw/handcal//NONSGML v1.0//EN
CALSCALE:GREGORIAN
BEGIN:VEVENT
LOCATION:Avenue Jacques Chirac\, 83820 Rayol-Canadel-sur-Mer
DESCRIPTION:https://www.golfe-saint-tropez-information.com/fr/animation/culture/rayol-canadel-sur-mer/soiree-romantique-au-domaine-du-rayol-rodolphe-menguy-4976360
DTSTART:20260713T000000Z
DTEND:20260713T000000Z
SUMMARY:Soirée romantique au Domaine du Rayol - Rodolphe MENGUY
URL;VALUE=URI:https://www.golfe-saint-tropez-information.com/fr/animation/culture/rayol-canadel-sur-mer/soiree-romantique-au-domaine-du-rayol-rodolphe-menguy-4976360
DTSTAMP:20260425T203004Z
UID:69ed244c71fa4
END:VEVENT
END:VCALENDAR