BEGIN:VCALENDAR
VERSION:2.0
PRODID:-//hacksw/handcal//NONSGML v1.0//EN
CALSCALE:GREGORIAN
BEGIN:VEVENT
LOCATION:Avenue Jacques Chirac\, 83820 Rayol-Canadel-sur-Mer
DESCRIPTION:https://www.golfe-saint-tropez-information.com/fr/animation/culture/rayol-canadel-sur-mer/soiree-romantique-au-domaine-du-rayol-trio-goldberg-4976325
DTSTART:20260727T000000Z
DTEND:20260727T000000Z
SUMMARY:Soirée romantique au Domaine du Rayol - Trio Goldberg
URL;VALUE=URI:https://www.golfe-saint-tropez-information.com/fr/animation/culture/rayol-canadel-sur-mer/soiree-romantique-au-domaine-du-rayol-trio-goldberg-4976325
DTSTAMP:20260425T220038Z
UID:69ed39864fa05
END:VEVENT
END:VCALENDAR