BEGIN:VCALENDAR
VERSION:2.0
PRODID:-//hacksw/handcal//NONSGML v1.0//EN
CALSCALE:GREGORIAN
BEGIN:VEVENT
LOCATION:Avenue Jacques Chirac\, 83820 Rayol-Canadel-sur-Mer
DESCRIPTION:https://www.golfe-saint-tropez-information.com/en/animation/cultural/rayol-canadel-sur-mer/soiree-romantique-au-domaine-du-rayol-quatuor-agate-4974397
DTSTART:20260803T000000Z
DTEND:20260803T000000Z
SUMMARY:Soirée romantique au Domaine du Rayol - Quatuor Agate
URL;VALUE=URI:https://www.golfe-saint-tropez-information.com/en/animation/cultural/rayol-canadel-sur-mer/soiree-romantique-au-domaine-du-rayol-quatuor-agate-4974397
DTSTAMP:20260425T232638Z
UID:69ed4dae47426
END:VEVENT
END:VCALENDAR