BEGIN:VCALENDAR
VERSION:2.0
PRODID:-//hacksw/handcal//NONSGML v1.0//EN
CALSCALE:GREGORIAN
BEGIN:VEVENT
LOCATION:83990 Saint-Tropez
DESCRIPTION:https://www.golfe-saint-tropez-information.com/fr/animation/manifestations-commerciales/saint-tropez/foire-artisanale-de-la-sainte-anne-4949011
DTSTART:20260726T000000Z
DTEND:20260726T000000Z
SUMMARY:Foire artisanale de la Sainte-Anne
URL;VALUE=URI:https://www.golfe-saint-tropez-information.com/fr/animation/manifestations-commerciales/saint-tropez/foire-artisanale-de-la-sainte-anne-4949011
DTSTAMP:20260422T231603Z
UID:69e956b38bfd3
END:VEVENT
END:VCALENDAR