BEGIN:VCALENDAR
VERSION:2.0
PRODID:-//hacksw/handcal//NONSGML v1.0//EN
CALSCALE:GREGORIAN
BEGIN:VEVENT
LOCATION:Domaine du Val D'Astier\, 330 chemin du Val d'Astier\, 83310 Cogolin
DESCRIPTION:https://www.golfe-saint-tropez-information.com/en/animation/cultural/cogolin/country-stroll-4868232
DTSTART:20260424T000000Z
DTEND:20261030T000000Z
SUMMARY:Country stroll
URL;VALUE=URI:https://www.golfe-saint-tropez-information.com/en/animation/cultural/cogolin/country-stroll-4868232
DTSTAMP:20260423T053116Z
UID:69e9aea4beae2
END:VEVENT
END:VCALENDAR