BEGIN:VCALENDAR
VERSION:2.0
PRODID:-//hacksw/handcal//NONSGML v1.0//EN
CALSCALE:GREGORIAN
BEGIN:VEVENT
LOCATION:Port Grimaud I\, 83310 Grimaud
DESCRIPTION:https://www.golfe-saint-tropez-information.com/fr/animation/manifestations-commerciales/grimaud/marche-artisanal-a-port-grimaud-4763079
DTSTART:20260413T000000Z
DTEND:20260921T000000Z
SUMMARY:Marché artisanal à Port Grimaud
URL;VALUE=URI:https://www.golfe-saint-tropez-information.com/fr/animation/manifestations-commerciales/grimaud/marche-artisanal-a-port-grimaud-4763079
DTSTAMP:20260420T042014Z
UID:69e5a97e21e3c
END:VEVENT
END:VCALENDAR