BEGIN:VCALENDAR
VERSION:2.0
PRODID:-//hacksw/handcal//NONSGML v1.0//EN
CALSCALE:GREGORIAN
BEGIN:VEVENT
LOCATION:Port Grimaud I\, 83310 Grimaud
DESCRIPTION:https://www.golfe-saint-tropez-information.com/en/animation/commercial-event/grimaud/craft-market-in-port-grimaud-4763079
DTSTART:20260413T000000Z
DTEND:20260921T000000Z
SUMMARY:Craft Market in Port Grimaud
URL;VALUE=URI:https://www.golfe-saint-tropez-information.com/en/animation/commercial-event/grimaud/craft-market-in-port-grimaud-4763079
DTSTAMP:20260420T024217Z
UID:69e592899b97b
END:VEVENT
END:VCALENDAR