BEGIN:VCALENDAR
VERSION:2.0
PRODID:-//hacksw/handcal//NONSGML v1.0//EN
CALSCALE:GREGORIAN
BEGIN:VEVENT
LOCATION:Port Grimaud I\, 83310 Grimaud
DESCRIPTION:https://www.golfe-saint-tropez-information.com/fr/animation/manifestations-commerciales/grimaud/marche-artisanal-nocturne-a-port-grimaud-4763075
DTSTART:20260706T000000Z
DTEND:20260831T000000Z
SUMMARY:Marché artisanal nocturne à Port Grimaud
URL;VALUE=URI:https://www.golfe-saint-tropez-information.com/fr/animation/manifestations-commerciales/grimaud/marche-artisanal-nocturne-a-port-grimaud-4763075
DTSTAMP:20260420T042013Z
UID:69e5a97df1da7
END:VEVENT
END:VCALENDAR