BEGIN:VCALENDAR
VERSION:2.0
PRODID:-//hacksw/handcal//NONSGML v1.0//EN
CALSCALE:GREGORIAN
BEGIN:VEVENT
LOCATION:Port Grimaud I\, 83310 Grimaud
DESCRIPTION:https://www.golfe-saint-tropez-information.com/en/animation/commercial-event/grimaud/night-market-in-port-grimaud-4763075
DTSTART:20260706T000000Z
DTEND:20260831T000000Z
SUMMARY:Night Market in Port Grimaud
URL;VALUE=URI:https://www.golfe-saint-tropez-information.com/en/animation/commercial-event/grimaud/night-market-in-port-grimaud-4763075
DTSTAMP:20260420T024217Z
UID:69e5928919bae
END:VEVENT
END:VCALENDAR