BEGIN:VCALENDAR
VERSION:2.0
PRODID:-//hacksw/handcal//NONSGML v1.0//EN
CALSCALE:GREGORIAN
BEGIN:VEVENT
LOCATION:83120 Sainte-Maxime
DESCRIPTION:https://www.golfe-saint-tropez-information.com/en/animation/cultural/sainte-maxime/fete-nationale-du-14-juillet-4719647
DTSTART:20260714T000000Z
DTEND:20260714T000000Z
SUMMARY:Fête nationale du 14 juillet
URL;VALUE=URI:https://www.golfe-saint-tropez-information.com/en/animation/cultural/sainte-maxime/fete-nationale-du-14-juillet-4719647
DTSTAMP:20260422T220303Z
UID:69e94597003b5
END:VEVENT
END:VCALENDAR