BEGIN:VCALENDAR
VERSION:2.0
PRODID:-//hacksw/handcal//NONSGML v1.0//EN
CALSCALE:GREGORIAN
BEGIN:VEVENT
LOCATION:Départ mairie annexe\, Place de la République\, 83310 Cogolin
DESCRIPTION:https://www.golfe-saint-tropez-information.com/en/animation/cultural/cogolin/guided-tour-of-the-old-village-4695341
DTSTART:20260423T000000Z
DTEND:20261029T000000Z
SUMMARY:Guided tour of the old village
URL;VALUE=URI:https://www.golfe-saint-tropez-information.com/en/animation/cultural/cogolin/guided-tour-of-the-old-village-4695341
DTSTAMP:20260425T221818Z
UID:69ed3daa83d24
END:VEVENT
END:VCALENDAR