BEGIN:VCALENDAR
VERSION:2.0
PRODID:-//hacksw/handcal//NONSGML v1.0//EN
CALSCALE:GREGORIAN
BEGIN:VEVENT
LOCATION:Dans le village\, 83310 Grimaud
DESCRIPTION:https://www.golfe-saint-tropez-information.com/fr/animation/distractions-et-loisirs/grimaud/la-fete-du-village-de-grimaud-4606760
DTSTART:20260815T000000Z
DTEND:20260817T000000Z
SUMMARY:La Fête du Village de Grimaud
URL;VALUE=URI:https://www.golfe-saint-tropez-information.com/fr/animation/distractions-et-loisirs/grimaud/la-fete-du-village-de-grimaud-4606760
DTSTAMP:20260422T061239Z
UID:69e866d7691e0
END:VEVENT
END:VCALENDAR