BEGIN:VCALENDAR
VERSION:2.0
PRODID:-//hacksw/handcal//NONSGML v1.0//EN
CALSCALE:GREGORIAN
BEGIN:VEVENT
LOCATION:Dans le village\, 83310 Grimaud
DESCRIPTION:https://www.golfe-saint-tropez-information.com/fr/animation/distractions-et-loisirs/grimaud/les-feux-de-la-saint-jean-4606739
DTSTART:20260623T000000Z
DTEND:20260623T000000Z
SUMMARY:Les Feux de la Saint-Jean
URL;VALUE=URI:https://www.golfe-saint-tropez-information.com/fr/animation/distractions-et-loisirs/grimaud/les-feux-de-la-saint-jean-4606739
DTSTAMP:20260422T202656Z
UID:69e92f101b791
END:VEVENT
END:VCALENDAR