BEGIN:VCALENDAR
VERSION:2.0
PRODID:-//hacksw/handcal//NONSGML v1.0//EN
CALSCALE:GREGORIAN
BEGIN:VEVENT
LOCATION:Dans le village\, 83310 Grimaud
DESCRIPTION:https://www.golfe-saint-tropez-information.com/en/animation/entertainment-recreation/grimaud/the-light-of-st-john-4606739
DTSTART:20260623T000000Z
DTEND:20260623T000000Z
SUMMARY:The Light of St John
URL;VALUE=URI:https://www.golfe-saint-tropez-information.com/en/animation/entertainment-recreation/grimaud/the-light-of-st-john-4606739
DTSTAMP:20260422T215328Z
UID:69e94358863de
END:VEVENT
END:VCALENDAR