BEGIN:VCALENDAR
VERSION:2.0
PRODID:-//hacksw/handcal//NONSGML v1.0//EN
CALSCALE:GREGORIAN
BEGIN:VEVENT
LOCATION:Route du Moulin de Paillas\, 83350 Ramatuelle
DESCRIPTION:https://www.golfe-saint-tropez-information.com/fr/animation/traditions-et-folklore/ramatuelle/journees-du-patrimoine-de-pays-et-des-moulins-4601690
DTSTART:20260627T000000Z
DTEND:20260628T000000Z
SUMMARY:Journées du Patrimoine de Pays et des Moulins
URL;VALUE=URI:https://www.golfe-saint-tropez-information.com/fr/animation/traditions-et-folklore/ramatuelle/journees-du-patrimoine-de-pays-et-des-moulins-4601690
DTSTAMP:20260419T234040Z
UID:69e567f865020
END:VEVENT
END:VCALENDAR