BEGIN:VCALENDAR
VERSION:2.0
PRODID:-//hacksw/handcal//NONSGML v1.0//EN
CALSCALE:GREGORIAN
BEGIN:VEVENT
LOCATION:Route du Moulin de Paillas\, 83350 Ramatuelle
DESCRIPTION:https://www.golfe-saint-tropez-information.com/en/animation/traditions-and-folklore/ramatuelle/journees-du-patrimoine-de-pays-et-des-moulins-country-and-mill-heritage-days-4601690
DTSTART:20260627T000000Z
DTEND:20260628T000000Z
SUMMARY:Journées du Patrimoine de Pays et des Moulins (Country and Mill Heritage Days)
URL;VALUE=URI:https://www.golfe-saint-tropez-information.com/en/animation/traditions-and-folklore/ramatuelle/journees-du-patrimoine-de-pays-et-des-moulins-country-and-mill-heritage-days-4601690
DTSTAMP:20260420T011925Z
UID:69e57f1d043c7
END:VEVENT
END:VCALENDAR