BEGIN:VCALENDAR
VERSION:2.0
PRODID:-//hacksw/handcal//NONSGML v1.0//EN
CALSCALE:GREGORIAN
BEGIN:VEVENT
LOCATION:83350 Ramatuelle
DESCRIPTION:https://www.golfe-saint-tropez-information.com/en/animation/entertainment-recreation/ramatuelle/botanical-walk-4601596
DTSTART:20260409T000000Z
DTEND:20270430T000000Z
SUMMARY:Botanical walk
URL;VALUE=URI:https://www.golfe-saint-tropez-information.com/en/animation/entertainment-recreation/ramatuelle/botanical-walk-4601596
DTSTAMP:20260425T233023Z
UID:69ed4e8f684dd
END:VEVENT
END:VCALENDAR