BEGIN:VCALENDAR
VERSION:2.0
PRODID:-//hacksw/handcal//NONSGML v1.0//EN
CALSCALE:GREGORIAN
BEGIN:VEVENT
LOCATION:Place de l'Ormeau\, 83350 Ramatuelle
DESCRIPTION:https://www.golfe-saint-tropez-information.com/fr/animation/manifestations-commerciales/ramatuelle/marche-au-village-4601577
DTSTART:20260409T000000Z
DTEND:20270429T000000Z
SUMMARY:Marché au village
URL;VALUE=URI:https://www.golfe-saint-tropez-information.com/fr/animation/manifestations-commerciales/ramatuelle/marche-au-village-4601577
DTSTAMP:20260420T053429Z
UID:69e5bae576147
END:VEVENT
END:VCALENDAR