BEGIN:VCALENDAR
VERSION:2.0
PRODID:-//hacksw/handcal//NONSGML v1.0//EN
CALSCALE:GREGORIAN
BEGIN:VEVENT
LOCATION:Place de l'Ormeau\, 83350 Ramatuelle
DESCRIPTION:https://www.golfe-saint-tropez-information.com/en/animation/commercial-event/ramatuelle/village-market-4601577
DTSTART:20260409T000000Z
DTEND:20270429T000000Z
SUMMARY:Village market
URL;VALUE=URI:https://www.golfe-saint-tropez-information.com/en/animation/commercial-event/ramatuelle/village-market-4601577
DTSTAMP:20260420T035932Z
UID:69e5a4a44515a
END:VEVENT
END:VCALENDAR