BEGIN:VCALENDAR
VERSION:2.0
PRODID:-//hacksw/handcal//NONSGML v1.0//EN
CALSCALE:GREGORIAN
BEGIN:VEVENT
LOCATION:Route des Moulins de Paillas\, 83350 Ramatuelle
DESCRIPTION:https://www.golfe-saint-tropez-information.com/fr/animation/culture/ramatuelle/journees-des-moulins-et-du-patrimoine-meulier-4601553
DTSTART:20260516T000000Z
DTEND:20260517T000000Z
SUMMARY:Journées des Moulins et du Patrimoine Meulier
URL;VALUE=URI:https://www.golfe-saint-tropez-information.com/fr/animation/culture/ramatuelle/journees-des-moulins-et-du-patrimoine-meulier-4601553
DTSTAMP:20260422T175306Z
UID:69e90b025d2cf
END:VEVENT
END:VCALENDAR