BEGIN:VCALENDAR
VERSION:2.0
PRODID:-//hacksw/handcal//NONSGML v1.0//EN
CALSCALE:GREGORIAN
BEGIN:VEVENT
LOCATION:Route des Moulins de Paillas\, 83350 Ramatuelle
DESCRIPTION:https://www.golfe-saint-tropez-information.com/en/animation/cultural/ramatuelle/mill-and-mill-heritage-days-4601553
DTSTART:20260516T000000Z
DTEND:20260517T000000Z
SUMMARY:Mill and Mill Heritage Days
URL;VALUE=URI:https://www.golfe-saint-tropez-information.com/en/animation/cultural/ramatuelle/mill-and-mill-heritage-days-4601553
DTSTAMP:20260422T190255Z
UID:69e91b5f80808
END:VEVENT
END:VCALENDAR